BEGIN:VCALENDAR
VERSION:2.0
PRODID:-//hacksw/handcal//NONSGML v1.0//EN
BEGIN:VEVENT
SUMMARY:CHAMPIONNAT de FRANCE  CADETS 2D
UID:3d5eeb0f-7110-44aa-a74d-23ded2cf179c
DTSTART:20260530T050000Z
DTEND:20260530T140000Z
LOCATION:Localisation   
CATEGORIES:Sportif
STATUS:
DESCRIPTION:<p>ATTENTION DEPART LA VEILLE VENDREDI 29 MAI
 17H</p>
 
 <p>Samedi 30 Mai 2026</p>
 
 <p>Nombre de surfaces
 16</p>
 
 <p>Pesee officielle Masculine Cadets 2eme
 Division</p>
 
 <p>7h00 a 8h00 pour les categories : -46, -50, -55,
 -60, -66, -73, -81, -90, +90 kg (Pesee de controle
 6h30/7h)</p>
 
 <p>Debut de la competition Masculine 9h00 </p>
URL;VALUE=URI:https://www.asmjudo.com/evenements/2026/05/30/championnat-de-france-cadets-2d-2435012
END:VEVENT
END:VCALENDAR
